BEGIN:VCALENDAR
VERSION:2.0
PRODID:-//First Peoples Cultural Council - ECPv6.15.18//NONSGML v1.0//EN
CALSCALE:GREGORIAN
METHOD:PUBLISH
X-WR-CALNAME:First Peoples Cultural Council
X-ORIGINAL-URL:https://fpcc.ca
X-WR-CALDESC:Events for First Peoples Cultural Council
REFRESH-INTERVAL;VALUE=DURATION:PT1H
X-Robots-Tag:noindex
X-PUBLISHED-TTL:PT1H
BEGIN:VTIMEZONE
TZID:America/Vancouver
BEGIN:DAYLIGHT
TZOFFSETFROM:-0800
TZOFFSETTO:-0700
TZNAME:PDT
DTSTART:20250309T100000
END:DAYLIGHT
BEGIN:STANDARD
TZOFFSETFROM:-0700
TZOFFSETTO:-0800
TZNAME:PST
DTSTART:20251102T090000
END:STANDARD
BEGIN:DAYLIGHT
TZOFFSETFROM:-0800
TZOFFSETTO:-0700
TZNAME:PDT
DTSTART:20260308T100000
END:DAYLIGHT
BEGIN:STANDARD
TZOFFSETFROM:-0700
TZOFFSETTO:-0800
TZNAME:PST
DTSTART:20261101T090000
END:STANDARD
BEGIN:DAYLIGHT
TZOFFSETFROM:-0800
TZOFFSETTO:-0700
TZNAME:PDT
DTSTART:20270314T100000
END:DAYLIGHT
BEGIN:STANDARD
TZOFFSETFROM:-0700
TZOFFSETTO:-0800
TZNAME:PST
DTSTART:20271107T090000
END:STANDARD
END:VTIMEZONE
BEGIN:VEVENT
DTSTART;TZID=America/Vancouver:20260305T163000
DTEND;TZID=America/Vancouver:20260305T163000
DTSTAMP:20260420T072106
CREATED:20260127T182518Z
LAST-MODIFIED:20260127T182520Z
UID:13535-1772728200-1772728200@fpcc.ca
SUMMARY:Arts Program Application Deadline
DESCRIPTION:This program supports the creation\, development\, production and promotion of all forms of creative expression. This includes his includes\, ceremonial\, visual\, performance\, music\, literary\, media\, sculpture\, carving\, weaving and more. \n\n\n\n\nLearn More
URL:https://fpcc.ca/event/arts-program-application-deadline/
END:VEVENT
BEGIN:VEVENT
DTSTART;TZID=America/Vancouver:20260313T163000
DTEND;TZID=America/Vancouver:20260313T163000
DTSTAMP:20260420T072106
CREATED:20260207T013112Z
LAST-MODIFIED:20260207T013115Z
UID:13603-1773419400-1773419400@fpcc.ca
SUMMARY:Braided Knowledge Grant Application Deadline
DESCRIPTION:The Braided Knowledge Grant supports projects that reflect the connected and holistic nature of B.C. First Nations arts\, languages\, cultures and heritage. \n\n\n\nAll projects must have a mentorship component. Mentorship encourages cultural knowledge and practical skills are passed to new generations from expert knowledge holders\, fluent speakers and artists.   \n\n\n\nUp to $25\,000 in funding available for applicants. \n\n\n\n\nLearn More
URL:https://fpcc.ca/event/braided-knowledge-grant-application-deadline/
END:VEVENT
END:VCALENDAR