BEGIN:VCALENDAR
VERSION:2.0
PRODID:-//First Peoples Cultural Council - ECPv6.15.18//NONSGML v1.0//EN
CALSCALE:GREGORIAN
METHOD:PUBLISH
X-WR-CALNAME:First Peoples Cultural Council
X-ORIGINAL-URL:https://fpcc.ca
X-WR-CALDESC:Events for First Peoples Cultural Council
REFRESH-INTERVAL;VALUE=DURATION:PT1H
X-Robots-Tag:noindex
X-PUBLISHED-TTL:PT1H
BEGIN:VTIMEZONE
TZID:America/Vancouver
BEGIN:DAYLIGHT
TZOFFSETFROM:-0800
TZOFFSETTO:-0700
TZNAME:PDT
DTSTART:20250309T100000
END:DAYLIGHT
BEGIN:STANDARD
TZOFFSETFROM:-0700
TZOFFSETTO:-0800
TZNAME:PST
DTSTART:20251102T090000
END:STANDARD
BEGIN:DAYLIGHT
TZOFFSETFROM:-0800
TZOFFSETTO:-0700
TZNAME:PDT
DTSTART:20260308T100000
END:DAYLIGHT
BEGIN:STANDARD
TZOFFSETFROM:-0700
TZOFFSETTO:-0800
TZNAME:PST
DTSTART:20261101T090000
END:STANDARD
BEGIN:DAYLIGHT
TZOFFSETFROM:-0800
TZOFFSETTO:-0700
TZNAME:PDT
DTSTART:20270314T100000
END:DAYLIGHT
BEGIN:STANDARD
TZOFFSETFROM:-0700
TZOFFSETTO:-0800
TZNAME:PST
DTSTART:20271107T090000
END:STANDARD
END:VTIMEZONE
BEGIN:VEVENT
DTSTART;TZID=America/Vancouver:20260224T163000
DTEND;TZID=America/Vancouver:20260224T163000
DTSTAMP:20260420T101916
CREATED:20260115T234951Z
LAST-MODIFIED:20260115T234953Z
UID:13441-1771950600-1771950600@fpcc.ca
SUMMARY:Braided Infrastructure Program Application Deadline
DESCRIPTION:The Braided Infrastructure Program funds projects that implement a broad range of projects to conserve\, repair or develop B.C. First Nations’ cultural infrastructure.  \n\n\n\nUp to $70\,000 in funding available for applicants. \n\n\n\n\nLearn More
URL:https://fpcc.ca/event/braided-infrastructure-program-application-deadline/
END:VEVENT
BEGIN:VEVENT
DTSTART;TZID=America/Vancouver:20260218T163000
DTEND;TZID=America/Vancouver:20260218T163000
DTSTAMP:20260420T101916
CREATED:20260115T234507Z
LAST-MODIFIED:20260205T220458Z
UID:13439-1771432200-1771432200@fpcc.ca
SUMMARY:Heritage Stewardship Program Application Deadline
DESCRIPTION:The FPCC Heritage Program supports the revitalization and safeguarding of B.C. First Nations cultural heritage through funding\, resources\, programs and by providing opportunities that bring people together to share knowledge.  \n\n\n\nThe amount of funding available for applicants ranges from $25\,000 – $75\,000. \n\n\n\n\nLearn More
URL:https://fpcc.ca/event/heritage-stewardship-program-application-deadline/
END:VEVENT
BEGIN:VEVENT
DTSTART;TZID=America/Vancouver:20260212T110000
DTEND;TZID=America/Vancouver:20260212T120000
DTSTAMP:20260420T101916
CREATED:20260207T013410Z
LAST-MODIFIED:20260207T013412Z
UID:13605-1770894000-1770897600@fpcc.ca
SUMMARY:Braided Knowledge Grant Information Session
DESCRIPTION:To support 2026-27 applicants\, we will be hosting an online information webinar on February 12\, 2026\, 11:00 a.m (PT) to give you the opportunity to ask questions and review how to fill out the application. Please register in advance using the button below. \n\n\n\n\nRegister
URL:https://fpcc.ca/event/braided-knowledge-grant-information-session/
END:VEVENT
BEGIN:VEVENT
DTSTART;TZID=America/Vancouver:20260128T110000
DTEND;TZID=America/Vancouver:20260128T120000
DTSTAMP:20260420T101916
CREATED:20260115T235232Z
LAST-MODIFIED:20260115T235234Z
UID:13443-1769598000-1769601600@fpcc.ca
SUMMARY:Braided Infrastructure Program Information Session
DESCRIPTION:To support 2026 applicants\, we will be hosting an online information webinar on January 28\, 2026\, 11:00 a.m. – 12:00 p.m. PT. The session provides the opportunity to ask questions and review how to fill out the application with FPCC staff. Please register in advance using the button below.   \n\n\n\n\nRegister
URL:https://fpcc.ca/event/braided-infrastructure-program-information-session/
END:VEVENT
BEGIN:VEVENT
DTSTART;TZID=America/Vancouver:20260122T110000
DTEND;TZID=America/Vancouver:20260122T120000
DTSTAMP:20260420T101916
CREATED:20260115T235352Z
LAST-MODIFIED:20260115T235354Z
UID:13445-1769079600-1769083200@fpcc.ca
SUMMARY:Heritage Stewardship Program Information Session
DESCRIPTION:To support 2026 applicants\, we will be hosting an online information webinar on January 22\, 2026\, 11:00 a.m. – 12:00 p.m. PT. The session provides the opportunity to ask questions and review how to fill out the application with FPCC staff. Please register in advance using the button below.   \n\n\n\n\nRegister
URL:https://fpcc.ca/event/heritage-stewardship-program-information-session/
END:VEVENT
END:VCALENDAR